{"text_format":"1","workbook":"xlsx","n_sheets":2,"sheets":["Ark1","Ark2"],"not_rendered":{"charts":0,"images":1,"macros":1,"external_links":0,"defined_names":1,"comments":0,"pivot_tables":0},"unopened":[],"bounds":{"document_bytes":16777216,"sheet_cells":100000,"rows_first":2000,"rows_last":500,"rows_between":2000,"halvings":0,"cell_chars":16384,"cell_head_chars":4096},"cells_cut":0,"cells_raw":0,"read":"whole","date_system":"1900"}

{"sheet":"Ark1","index":0,"n_rows":66,"n_cols":33,"rows_kept":66,"cut":false,"hidden":false,"merged":[[38,6,38,12],[39,6,39,12],[23,23,24,31],[21,32,24,35],[27,6,27,12],[28,6,28,12],[29,6,29,12],[30,6,30,12],[31,6,31,12],[38,15,38,16],[28,17,28,18],[36,23,36,25],[35,26,35,28],[35,32,35,35],[31,19,31,20],[36,29,36,31],[32,19,32,20],[30,17,30,18],[34,29,34,31],[34,21,34,22],[39,29,39,31],[39,23,39,25],[34,26,34,28],[34,32,34,35],[39,32,39,35],[14,38,14,49],[15,38,15,49],[30,23,30,25],[21,23,21,31],[22,23,22,31],[11,29,13,34],[25,19,25,20],[26,19,26,20],[27,19,27,20],[28,19,28,20],[30,29,30,31],[27,29,27,31],[29,29,29,31],[25,23,25,25],[25,21,25,22],[39,15,39,16],[32,15,32,16],[33,15,33,16],[34,15,34,16],[35,15,35,16],[36,15,36,16],[37,15,37,16],[22,13,24,14],[22,15,24,16],[22,17,24,18],[25,15,25,16],[25,6,25,12],[26,6,26,12],[26,13,26,14],[25,13,25,14],[25,17,25,18],[26,15,26,16],[25,26,25,28],[25,29,25,31],[26,29,26,31],[29,17,29,18],[6,1,7,3],[8,1,9,3],[10,1,11,3],[8,4,9,19],[10,4,11,19],[12,1,14,3],[12,4,14,7],[12,8,14,10],[6,4,7,19],[22,21,24,22],[21,6,24,12],[26,26,26,28],[26,1,31,5],[27,26,27,28],[26,17,26,18],[27,15,27,16],[29,13,29,14],[31,15,31,16],[27,13,27,14],[29,23,29,25],[28,26,28,28],[31,13,31,14],[31,21,31,22],[31,17,31,18],[29,19,29,20],[27,17,27,18],[16,28,18,35],[28,29,28,31],[28,13,28,14],[27,23,27,25],[29,32,29,35],[22,19,24,20],[28,21,28,22],[28,15,28,16],[26,23,26,25],[29,15,29,16],[32,1,35,5],[33,23,33,25],[34,23,34,25],[34,13,34,14],[34,19,34,20],[33,13,33,14],[32,6,32,12],[32,17,32,18],[33,6,33,12],[34,6,34,12],[35,6,35,12],[36,6,36,12],[35,13,35,14],[31,23,31,25],[36,26,36,28],[37,21,37,22],[37,23,37,25],[37,26,37,28],[37,17,37,18],[32,13,32,14],[32,23,32,25],[32,26,32,28],[36,21,36,22],[33,17,33,18],[30,19,30,20],[31,32,31,35],[34,17,34,18],[33,19,33,20],[32,32,32,35],[31,26,31,28],[30,32,30,35],[30,21,30,22],[32,29,32,31],[33,29,33,31],[30,26,30,28],[10,27,11,28],[31,29,31,31],[33,21,33,22],[27,32,27,35],[33,32,33,35],[38,32,38,35],[35,17,35,18],[38,23,38,25],[36,32,36,35],[37,32,37,35],[25,32,25,35],[26,32,26,35],[29,26,29,28],[28,32,28,35],[38,29,38,31],[9,20,9,26],[30,13,30,14],[26,21,26,22],[27,21,27,22],[21,13,21,22],[29,21,29,22],[20,13,20,22],[30,15,30,16],[12,11,14,19],[28,23,28,25],[9,27,9,35],[47,19,47,27],[41,11,41,13],[47,28,47,35],[39,21,39,22],[5,16,5,30],[35,21,35,22],[38,21,38,22],[7,20,7,35],[38,19,38,20],[42,38,42,47],[59,1,60,8],[40,1,40,35],[49,1,49,12],[49,13,49,18],[49,28,49,35],[43,1,43,14],[42,11,42,14],[41,19,41,35],[41,1,41,10],[38,26,38,28],[32,21,32,22],[33,26,33,28],[38,13,38,14],[35,29,35,31],[37,19,37,20],[36,13,36,14],[35,23,35,25],[36,17,36,18],[35,19,35,20],[39,17,39,18],[39,13,39,14],[36,1,39,5],[37,29,37,31],[36,19,36,20],[39,26,39,28],[37,13,37,14],[37,6,37,12],[38,17,38,18],[39,19,39,20],[61,1,62,7],[61,8,62,8],[52,1,54,18],[52,23,54,35],[47,1,47,18],[60,11,63,35],[19,1,20,6],[64,1,64,35],[44,19,44,35],[42,19,42,35],[42,1,42,10],[43,19,43,35],[41,18,44,18],[55,2,55,16],[45,17,45,35],[55,23,55,35]]}
[null,null,null,null,null,null,null,null,null,null,null,null,null,null,null,null,null,null,null,null,null,null,null,null,null,null,null,null,null,null,null,null,"Side 1 av 2"]
[]
[]
[]
[]
[null,"Kundeinformasjon",null,null,null,null,null,null,null,null,null,null,null,null,null,null,"Del 1 Postens fakturagrunnlag"]
[null,"Kundenummer",null,null,null,null,null,null,null,null,null,null,null,null,null,null,null,null,null,null,"Bestillingreferanse (maks 35 tegn)"]
[]
[null,"Kundenavn",null,null,null,null,null,null,null,null,null,null,null,null,null,null,null,null,null,null,"Telefon",null,null,null,null,null,null,"e-post"]
[]
[null,"Postadresse",null,null,null,null,null,null,null,null,null,null,null,null,null,null,null,null,null,null,"Ved delinnlevering"]
[null,null,null,null,null,null,null,null,null,null,null,null,null,null,null,null,null,null,null,null,null,null,"Delinnlevering nr."]
[null,"Postnummer",null,null,null,null,null,null,"Poststed"]
[null,null,null,null,null,null,null,null,null,null,null,null,null,null,null,null,null,null,null,null,null,null,"Sluttlevering"]
[]
[null,"Mottakere - Kryss av",null,null,null,null,null,null,null,"Hovedinnhold i sendingene - Kryss av"]
[null,null,"Bedrift",null,null,null,null,null,null,"Faktura",null,null,null,null,null,null,null,"Katalog/kundemag.",null,null,null,null,null,null,"Annet",null,null,null,"Informasjonen brukes til offentlig statistikk og utvikling av våre tjenester"]
[null,null,"Privat",null,null,null,null,null,null,"Dokum/meldinger",null,null,null,null,null,null,null,"Varer"]
[null,null,"Blandet",null,null,null,null,null,null,"Reklame/kundepl",null,null,null,null,null,null,null,"Blader"]
[null,"Spesifiser utsendelsen:"]
[null,null,null,null,null,null,null,null,null,null,null,null,null,"Er sendingene maskintilpasset?"]
[null,null,null,null,null,null,"Vekt per sending",null,null,null,null,null,null,"Kryss av for rabattkategori *",null,null,null,null,null,null,null,null,null,"Antall pr format",null,null,null,null,null,null,null,null,"Total vekt"]
[null,null,null,null,null,null,null,null,null,null,null,null,null,"nøytrale konvo-lutter      ",null,"reklame-trykk ",null,"åpne/         i plast ",null,"i eske eller lignende ",null,"Ikke maskin-tilpasset"]
[null,null,null,null,null,null,null,null,null,null,null,null,null,null,null,null,null,null,null,null,null,null,null,"Fyll inn antall \nsendinger per format"]
[]
[null,"Prissone",null,null,null,null,"Gram",null,null,null,null,null,null,"MV1",null,"MV2",null,"MV3",null,"MV4",null,null,null,"Små",null,null,"Store",null,null,"Ekstra store",null,null,"Kilo"]
[null,"  Norge"]
[]
[]
[]
[]
[]
[null,"  Europa"]
[]
[]
[]
[null,"   Utenfor Europa"]
[]
[]
[]
[]
[null,"Tillegg pr sending",null,null,null,null,null,null,null,null,null,"Antall",null,null,null,null,null,null,null,"*Rabattkategorier for maskintilpasset post"]
[null,"Ekstra store med formattillegg*",null,null,null,null,null,null,null,null,null,null,null,null,null,null,null,null,null,"MV1 - Nøytrale tilnærmet hvite kontolutter"]
[null,"*Større enn 35,3x25 cm eller tykkere enn 7 cm",null,null,null,null,null,null,null,null,null,null,null,null,null,null,null,null,null,"MV3 - Sendinger uten konvolutt, åpne/i plast"]
[null,null,null,null,null,null,null,null,null,null,null,null,null,null,null,null,null,null,null,"MV4 - Sendinger i eske eller lignende                   "]
[null,"Underskrifter mv.",null,null,null,null,null,null,null,null,null,null,null,null,null,null,null,"Vilkår for Post med like formater gjelder, se bring.no/vilkar"]
[null,"Firmanavn ved innlevering av 3.part (trykkeri e.l.)",null,null,null,null,null,null,null,null,null,null,null,null,null,null,null,null,null,"Kontaktperson",null,null,null,null,null,null,null,null,"Telefon"]
[]
[null,"Sted",null,null,null,null,null,null,null,null,null,null,null,"Dato/år",null,null,null,null,null,"Sted",null,null,null,null,null,null,null,null,"Dato/år/klokkeslett"]
[]
[]
[]
[]
[]
[]
[null,null,"Navn/stempel og underskrift",null,null,null,null,null,null,null,null,null,null,null,null,null,null,null,null,null,null,null,null,"Stempel og underskrift Posten"]
[]
[]
[null,"Kommentarer/korrigeringer for Posten"]
[null,"Samlet vekt av innleveringen",null,null,null,null,null,null,null,null,null,null,"Ordreseddelen er korrigert",null,null,null,null,null,null,null,null,null,null,"Postens kommentarer til avviket"]
[]
[null,null,null,null,null,null,null,null,"kg"]
[]
[]
[null,"Posten Norge AS, Foretaksregisteret: NO 984 661 185 MVA"]
[null,"2019 V01"]

{"sheet":"Ark2","index":1,"n_rows":66,"n_cols":35,"rows_kept":66,"cut":false,"hidden":false,"merged":[[38,6,38,12],[39,6,39,12],[23,23,24,31],[21,32,24,35],[30,6,30,12],[31,6,31,12],[32,6,32,12],[33,6,33,12],[38,13,38,14],[34,6,34,12],[35,6,35,12],[12,1,14,3],[12,4,14,7],[12,8,14,10],[12,11,14,19],[32,13,32,14],[31,19,31,20],[32,15,32,16],[21,6,24,12],[25,6,25,12],[26,6,26,12],[27,6,27,12],[37,29,37,31],[37,13,37,14],[32,17,32,18],[36,6,36,12],[37,6,37,12],[36,13,36,14],[35,15,35,16],[36,19,36,20],[6,1,7,3],[6,4,7,19],[8,1,9,3],[8,4,9,19],[10,1,11,3],[10,4,11,19],[61,8,62,8],[47,19,47,27],[47,28,47,35],[21,13,21,22],[42,1,42,10],[38,19,38,20],[38,21,38,22],[40,1,40,35],[37,19,37,20],[52,1,54,18],[52,23,54,35],[42,11,42,13],[49,1,49,12],[64,19,64,35],[55,2,55,16],[55,23,55,35],[59,1,60,8],[61,1,62,7],[43,1,43,13],[49,13,49,18],[49,19,49,27],[49,28,49,35],[39,19,39,20],[39,21,39,22],[39,15,39,16],[47,1,47,18],[39,23,39,25],[39,26,39,28],[39,32,39,35],[38,15,38,16],[38,17,38,18],[39,29,39,31],[39,13,39,14],[38,23,38,25],[38,26,38,28],[38,29,38,31],[39,17,39,18],[38,32,38,35],[36,32,36,35],[37,15,37,16],[37,17,37,18],[37,32,37,35],[37,23,37,25],[37,26,37,28],[37,21,37,22],[36,29,36,31],[36,15,36,16],[36,17,36,18],[36,21,36,22],[35,29,35,31],[36,23,36,25],[36,26,36,28],[35,17,35,18],[35,19,35,20],[35,21,35,22],[33,13,33,14],[34,23,34,25],[34,13,34,14],[34,19,34,20],[35,23,35,25],[35,13,35,14],[34,15,34,16],[34,17,34,18],[34,21,34,22],[34,32,34,35],[35,32,35,35],[34,26,34,28],[33,15,33,16],[33,17,33,18],[33,19,33,20],[33,21,33,22],[35,26,35,28],[34,29,34,31],[33,32,33,35],[32,29,32,31],[32,21,32,22],[32,32,32,35],[32,26,32,28],[31,26,31,28],[33,23,33,25],[33,26,33,28],[31,23,31,25],[31,32,31,35],[33,29,33,31],[30,15,30,16],[32,19,32,20],[31,21,31,22],[32,23,32,25],[27,32,27,35],[29,26,29,28],[31,29,31,31],[30,21,30,22],[30,23,30,25],[30,32,30,35],[29,17,29,18],[30,13,30,14],[28,13,28,14],[29,15,29,16],[28,19,28,20],[31,13,31,14],[31,15,31,16],[31,17,31,18],[29,13,29,14],[30,17,30,18],[30,26,30,28],[30,29,30,31],[29,23,29,25],[30,19,30,20],[29,21,29,22],[28,29,28,31],[28,21,28,22],[28,6,28,12],[29,6,29,12],[28,32,28,35],[29,32,29,35],[28,15,28,16],[28,17,28,18],[28,23,28,25],[29,19,29,20],[29,29,29,31],[28,26,28,28],[26,26,26,28],[26,29,26,31],[27,26,27,28],[27,29,27,31],[26,23,26,25],[27,23,27,25],[27,17,27,18],[27,19,27,20],[25,13,25,14],[25,15,25,16],[26,19,26,20],[26,21,26,22],[27,21,27,22],[27,13,27,14],[27,15,27,16],[22,23,22,31],[22,13,24,14],[25,17,25,18],[26,15,26,16],[25,23,25,25],[25,26,25,28],[25,21,25,22],[26,17,26,18],[25,19,25,20],[26,13,26,14],[5,16,5,30],[7,20,7,35],[9,20,9,26],[22,19,24,20],[22,21,24,22],[20,13,20,22],[21,23,21,31],[9,27,9,35],[11,29,13,34],[22,17,24,18],[10,27,11,28],[22,15,24,16],[25,29,25,31],[41,1,41,10],[41,11,41,13],[25,1,25,5],[36,1,39,5],[17,24,18,35],[32,1,35,5],[25,32,25,35],[60,11,63,35],[19,1,20,6],[45,17,45,35],[41,19,41,35],[42,19,42,35],[44,19,44,35],[43,19,43,35],[44,11,44,13],[26,1,31,5],[26,32,26,35]]}
[null,null,null,null,null,null,null,null,null,null,null,null,null,null,null,null,null,null,null,null,null,null,null,null,null,null,null,null,null,null,null,null,"Side 2 av 2"]
[]
[]
[]
[]
[null,"Kundeinformasjon",null,null,null,null,null,null,null,null,null,null,null,null,null,null,"Del 2 Kundens gjenpart"]
[null,"Kundenummer",null,null,null,null,null,null,null,null,null,null,null,null,null,null,null,null,null,null,"Bestillingsreferanse (maks 35 tegn)"]
[]
[null,"Kundenavn",null,null,{"$f":"'Ark1'!E9","v":0},null,null,null,null,null,null,null,null,null,null,null,null,null,null,null,"Telefon",null,null,null,null,null,null,"e-post"]
[null,null,null,null,null,null,null,null,null,null,null,null,null,null,null,null,null,null,null,null,null,null,null,null,null,null,null,{"$f":"'Ark1'!AB10","v":0}]
[null,"Postadresse",null,null,{"$f":"'Ark1'!E11","v":0},null,null,null,null,null,null,null,null,null,null,null,null,null,null,null,"Ved delinnlevering",null,null,null,null,null,null,{"$f":"'Ark1'!AB11","v":0}]
[null,null,null,null,null,null,null,null,null,null,null,null,null,null,null,null,null,null,null,null,null,{"$f":"'Ark1'!V12","v":0},"Delinnlevering nr.",null,null,null,{"$f":"'Ark1'!AA12","v":0}]
[null,"Postnummer",null,null,{"$f":"'Ark1'!E13","v":0},null,null,null,"Poststed",null,null,{"$f":"'Ark1'!L13","v":0}]
[null,null,null,null,null,null,null,null,null,null,null,null,null,null,null,null,null,null,null,null,null,{"$f":"'Ark1'!V14","v":0},"Sluttlevering"]
[]
[null,"Mottakere - Kryss av",null,null,null,null,null,null,null,"Hovedinnhold i sendingene Kryss av"]
[null,null,"Bedrift",null,null,null,{"$f":"'Ark1'!G17","v":0},null,null,"Faktura",null,null,null,null,{"$f":"'Ark1'!O17","v":0},null,null,"Katalog/kundemag.",null,null,null,null,{"$f":"'Ark1'!W17","v":0},null,"Annet",null,{"$f":"'Ark1'!AA17","v":0}]
[null,null,"Privat",null,null,null,{"$f":"'Ark1'!G18","v":0},null,null,"Dokum/meldinger",null,null,null,null,{"$f":"'Ark1'!O18","v":0},null,null,"Varer",null,null,null,null,{"$f":"'Ark1'!W18","v":0},null,"Informasjonen brukes til offentlig\n statistikk og utvikling av våre tjenester"]
[null,null,"Blandet",null,null,null,{"$f":"'Ark1'!G19","v":0},null,null,"Reklame/kundepl",null,null,null,null,{"$f":"'Ark1'!O19","v":0},null,null,"Blader",null,null,null,null,{"$f":"'Ark1'!W19","v":0}]
[null,"Spesifiser utsendelsen:"]
[null,null,null,null,null,null,null,null,null,null,null,null,null,"Er sendingene maskintilpasset?"]
[null,null,null,null,null,null,"Vekt per sending",null,null,null,null,null,null,"Kryss av for rabattkategori*",null,null,null,null,null,null,null,null,null,"Antall pr format",null,null,null,null,null,null,null,null,"Total vekt"]
[null,null,null,null,null,null,null,null,null,null,null,null,null,"nøytrale konvo-lutter      ",null,"reklame-trykk ",null,"åpne/\n i plast ",null,"i eske eller lignende",null,"Ikke maskin-tilpasset"]
[null,null,null,null,null,null,null,null,null,null,null,null,null,null,null,null,null,null,null,null,null,null,null,"Fyll inn antall \nsendinger per format"]
[]
[null,"Prissone",null,null,null,null,"Gram",null,null,null,null,null,null,"MV1",null,"MV2",null,"MV3",null,"MV4",null,null,null,"Små",null,null,"Store",null,null,"Ekstra store",null,null,"(kg)"]
[null,"  Norge",null,null,null,null,{"$f":"'Ark1'!G27","v":0},null,null,null,null,null,null,{"$f":"'Ark1'!N27","v":0},null,{"$f":"'Ark1'!P27","v":0},null,{"$f":"'Ark1'!R27","v":0},null,{"$f":"'Ark1'!T27","v":0},null,{"$f":"'Ark1'!V27","v":0},null,{"$f":"'Ark1'!X27","v":0},{"$f":"'Ark1'!Y27","v":0},null,{"$f":"'Ark1'!AA27","v":0},{"$f":"'Ark1'!AB27","v":0},null,{"$f":"'Ark1'!AD27","v":0},{"$f":"'Ark1'!AE27","v":0},null,{"$f":"'Ark1'!AG27","v":0},null,{"$f":"'Ark1'!AI27","v":0}]
[null,null,null,null,null,null,{"$f":"'Ark1'!G28","v":0},null,null,null,null,null,null,{"$f":"'Ark1'!N28","v":0},null,{"$f":"'Ark1'!P28","v":0},null,{"$f":"'Ark1'!R28","v":0},null,{"$f":"'Ark1'!T28","v":0},null,{"$f":"'Ark1'!V28","v":0},null,{"$f":"'Ark1'!X28","v":0},{"$f":"'Ark1'!Y28","v":0},null,{"$f":"'Ark1'!AA28","v":0},{"$f":"'Ark1'!AB28","v":0},null,{"$f":"'Ark1'!AD28","v":0},{"$f":"'Ark1'!AE28","v":0},null,{"$f":"'Ark1'!AG28","v":0},null,{"$f":"'Ark1'!AI28","v":0}]
[null,null,null,null,null,null,{"$f":"'Ark1'!G29","v":0},null,null,null,null,null,null,null,null,{"$f":"'Ark1'!P29","v":0},null,{"$f":"'Ark1'!R29","v":0},null,{"$f":"'Ark1'!T29","v":0},null,{"$f":"'Ark1'!V29","v":0},null,{"$f":"'Ark1'!X29","v":0},{"$f":"'Ark1'!Y29","v":0},null,{"$f":"'Ark1'!AA29","v":0},{"$f":"'Ark1'!AB29","v":0},null,{"$f":"'Ark1'!AD29","v":0},{"$f":"'Ark1'!AE29","v":0},null,{"$f":"'Ark1'!AG29","v":0},null,{"$f":"'Ark1'!AI29","v":0}]
[null,null,null,null,null,null,{"$f":"'Ark1'!G30","v":0},null,null,null,null,null,null,{"$f":"'Ark1'!N30","v":0},null,{"$f":"'Ark1'!P30","v":0},null,{"$f":"'Ark1'!R30","v":0},null,{"$f":"'Ark1'!T30","v":0},null,{"$f":"'Ark1'!V30","v":0},null,{"$f":"'Ark1'!X30","v":0},{"$f":"'Ark1'!Y30","v":0},null,{"$f":"'Ark1'!AA30","v":0},{"$f":"'Ark1'!AB30","v":0},null,{"$f":"'Ark1'!AD30","v":0},{"$f":"'Ark1'!AE30","v":0},null,{"$f":"'Ark1'!AG30","v":0},null,{"$f":"'Ark1'!AI30","v":0}]
[null,null,null,null,null,null,{"$f":"'Ark1'!G31","v":0},null,null,null,null,null,null,{"$f":"'Ark1'!N31","v":0},null,{"$f":"'Ark1'!P31","v":0},null,{"$f":"'Ark1'!R31","v":0},null,{"$f":"'Ark1'!T31","v":0},null,{"$f":"'Ark1'!V31","v":0},null,{"$f":"'Ark1'!X31","v":0},{"$f":"'Ark1'!Y31","v":0},null,{"$f":"'Ark1'!AA31","v":0},{"$f":"'Ark1'!AB31","v":0},null,{"$f":"'Ark1'!AD31","v":0},{"$f":"'Ark1'!AE31","v":0},null,{"$f":"'Ark1'!AG31","v":0},null,{"$f":"'Ark1'!AI31","v":0}]
[null,null,null,null,null,null,{"$f":"'Ark1'!G32","v":0},null,null,null,null,null,null,{"$f":"'Ark1'!N32","v":0},null,{"$f":"'Ark1'!P32","v":0},null,{"$f":"'Ark1'!R32","v":0},null,{"$f":"'Ark1'!T32","v":0},null,{"$f":"'Ark1'!V32","v":0},null,{"$f":"'Ark1'!X32","v":0},{"$f":"'Ark1'!Y32","v":0},null,{"$f":"'Ark1'!AA32","v":0},{"$f":"'Ark1'!AB32","v":0},null,{"$f":"'Ark1'!AD32","v":0},{"$f":"'Ark1'!AE32","v":0},null,{"$f":"'Ark1'!AG32","v":0},null,{"$f":"'Ark1'!AI32","v":0}]
[null,"  Europa",null,null,null,null,{"$f":"'Ark1'!G33","v":0},null,null,null,null,null,null,{"$f":"'Ark1'!N33","v":0},null,{"$f":"'Ark1'!P33","v":0},null,{"$f":"'Ark1'!R33","v":0},null,{"$f":"'Ark1'!T33","v":0},null,{"$f":"'Ark1'!V33","v":0},null,{"$f":"'Ark1'!X33","v":0},{"$f":"'Ark1'!Y33","v":0},null,{"$f":"'Ark1'!AA33","v":0},{"$f":"'Ark1'!AB33","v":0},null,{"$f":"'Ark1'!AD33","v":0},{"$f":"'Ark1'!AE33","v":0},null,{"$f":"'Ark1'!AG33","v":0},null,{"$f":"'Ark1'!AI33","v":0}]
[null,null,null,null,null,null,{"$f":"'Ark1'!G34","v":0},null,null,null,null,null,null,{"$f":"'Ark1'!N34","v":0},null,{"$f":"'Ark1'!P34","v":0},null,{"$f":"'Ark1'!R34","v":0},null,{"$f":"'Ark1'!T34","v":0},null,{"$f":"'Ark1'!V34","v":0},null,{"$f":"'Ark1'!X34","v":0},{"$f":"'Ark1'!Y34","v":0},null,{"$f":"'Ark1'!AA34","v":0},{"$f":"'Ark1'!AB34","v":0},null,{"$f":"'Ark1'!AD34","v":0},{"$f":"'Ark1'!AE34","v":0},null,{"$f":"'Ark1'!AG34","v":0},null,{"$f":"'Ark1'!AI34","v":0}]
[null,null,null,null,null,null,{"$f":"'Ark1'!G35","v":0},null,null,null,null,null,null,{"$f":"'Ark1'!N35","v":0},null,{"$f":"'Ark1'!P35","v":0},null,{"$f":"'Ark1'!R35","v":0},null,{"$f":"'Ark1'!T35","v":0},null,{"$f":"'Ark1'!V35","v":0},null,{"$f":"'Ark1'!X35","v":0},{"$f":"'Ark1'!Y35","v":0},null,{"$f":"'Ark1'!AA35","v":0},{"$f":"'Ark1'!AB35","v":0},null,{"$f":"'Ark1'!AD35","v":0},{"$f":"'Ark1'!AE35","v":0},null,{"$f":"'Ark1'!AG35","v":0},null,{"$f":"'Ark1'!AI35","v":0}]
[null,null,null,null,null,null,{"$f":"'Ark1'!G36","v":0},null,null,null,null,null,null,{"$f":"'Ark1'!N36","v":0},null,{"$f":"'Ark1'!P36","v":0},null,{"$f":"'Ark1'!R36","v":0},null,{"$f":"'Ark1'!T36","v":0},null,{"$f":"'Ark1'!V36","v":0},null,{"$f":"'Ark1'!X36","v":0},{"$f":"'Ark1'!Y36","v":0},null,{"$f":"'Ark1'!AA36","v":0},{"$f":"'Ark1'!AB36","v":0},null,{"$f":"'Ark1'!AD36","v":0},{"$f":"'Ark1'!AE36","v":0},null,{"$f":"'Ark1'!AG36","v":0},null,{"$f":"'Ark1'!AI36","v":0}]
[null,"  Utenfor Europa",null,null,null,null,{"$f":"'Ark1'!G37","v":0},null,null,null,null,null,null,{"$f":"'Ark1'!N37","v":0},null,{"$f":"'Ark1'!P37","v":0},null,{"$f":"'Ark1'!R37","v":0},null,{"$f":"'Ark1'!T37","v":0},null,{"$f":"'Ark1'!V37","v":0},null,{"$f":"'Ark1'!X37","v":0},{"$f":"'Ark1'!Y37","v":0},null,{"$f":"'Ark1'!AA37","v":0},{"$f":"'Ark1'!AB37","v":0},null,{"$f":"'Ark1'!AD37","v":0},{"$f":"'Ark1'!AE37","v":0},null,{"$f":"'Ark1'!AG37","v":0},null,{"$f":"'Ark1'!AI37","v":0}]
[null,null,null,null,null,null,{"$f":"'Ark1'!G38","v":0},null,null,null,null,null,null,{"$f":"'Ark1'!N38","v":0},null,{"$f":"'Ark1'!P38","v":0},null,{"$f":"'Ark1'!R38","v":0},null,{"$f":"'Ark1'!T38","v":0},null,{"$f":"'Ark1'!V38","v":0},null,{"$f":"'Ark1'!X38","v":0},{"$f":"'Ark1'!Y38","v":0},null,{"$f":"'Ark1'!AA38","v":0},{"$f":"'Ark1'!AB38","v":0},null,{"$f":"'Ark1'!AD38","v":0},{"$f":"'Ark1'!AE38","v":0},null,{"$f":"'Ark1'!AG38","v":0},null,{"$f":"'Ark1'!AI38","v":0}]
[null,null,null,null,null,null,{"$f":"'Ark1'!G39","v":0},null,null,null,null,null,null,{"$f":"'Ark1'!N39","v":0},null,{"$f":"'Ark1'!P39","v":0},null,{"$f":"'Ark1'!R39","v":0},null,{"$f":"'Ark1'!T39","v":0},null,{"$f":"'Ark1'!V39","v":0},null,{"$f":"'Ark1'!X39","v":0},{"$f":"'Ark1'!Y39","v":0},null,{"$f":"'Ark1'!AA39","v":0},{"$f":"'Ark1'!AB39","v":0},null,{"$f":"'Ark1'!AD39","v":0},{"$f":"'Ark1'!AE39","v":0},null,{"$f":"'Ark1'!AG39","v":0},null,{"$f":"'Ark1'!AI39","v":0}]
[null,null,null,null,null,null,{"$f":"'Ark1'!G40","v":0},null,null,null,null,null,null,{"$f":"'Ark1'!N40","v":0},null,{"$f":"'Ark1'!P40","v":0},null,{"$f":"'Ark1'!R40","v":0},null,{"$f":"'Ark1'!T40","v":0},null,{"$f":"'Ark1'!V40","v":0},null,{"$f":"'Ark1'!X40","v":0},{"$f":"'Ark1'!Y40","v":0},null,{"$f":"'Ark1'!AA40","v":0},{"$f":"'Ark1'!AB40","v":0},null,{"$f":"'Ark1'!AD40","v":0},{"$f":"'Ark1'!AE40","v":0},null,{"$f":"'Ark1'!AG40","v":0},null,{"$f":"'Ark1'!AI40","v":0}]
[null,{"$f":"'Ark1'!B41","v":0}]
[null,"Tillegg pr sending",null,null,null,null,null,null,null,null,null,"Antall",null,null,null,null,null,null,null,"* Rabattkategorier for maskintilpasset post"]
[null,"Ekstra store med formattillegg*",null,null,null,null,null,null,null,null,null,{"$f":"'Ark1'!L43","v":0},null,null,null,null,null,null,null,"MV1 - Nøytrale tilnærmet hvite kontolutter"]
[null,"*Større enn 35,3x25 cm eller tykkere enn 7 cm",null,null,null,null,null,null,null,null,null,null,null,null,null,null,null,null,null,"MV3 - Sendinger uten konvolutt, åpne/i plast"]
[null,null,null,null,null,null,null,null,null,null,null,null,null,null,null,null,null,null,null,"MV4 - Sendinger i eske eller lignende                   "]
[null,"Underskrifter mv.",null,null,null,null,null,null,null,null,null,null,null,null,null,null,null,"Vilkår for Post med like formater gjelder, se bring.no/vilkar"]
[null,"Firmanavn ved innlevering av 3.part (trykkeri e.l.)",null,null,null,null,null,null,null,null,null,null,null,null,null,null,null,null,null,"Kontaktperson",null,null,null,null,null,null,null,null,"Telefon"]
[null,{"$f":"'Ark1'!B48","v":0},null,null,null,null,null,null,null,null,null,null,null,null,null,null,null,null,null,{"$f":"'Ark1'!T48","v":0},null,null,null,null,null,null,null,null,{"$f":"'Ark1'!AC48","v":0}]
[null,"Sted",null,null,null,null,null,null,null,null,null,null,null,"Dato/år",null,null,null,null,null,"Sted",null,null,null,null,null,null,null,null,"Dato/år/klokkeslett"]
[null,{"$f":"'Ark1'!B50","v":0},null,null,null,null,null,null,null,null,null,null,null,{"$f":"'Ark1'!N50","v":0},null,null,null,null,null,{"$f":"'Ark1'!T48","v":0},null,null,null,null,null,null,null,null,{"$f":"'Ark1'!AC50","v":0}]
[]
[]
[null,{"$f":"'Ark1'!B53","v":0},null,null,null,null,null,null,null,null,null,null,null,null,null,null,null,null,null,null,null,null,null,{"$f":"'Ark1'!X53","v":0}]
[]
[]
[null,null,"Navn/stempel og underskrift",null,null,null,null,null,null,null,null,null,null,null,null,null,null,null,null,null,null,null,null,"Stempel og underskrift Posten"]
[]
[]
[null,"Kommentarer/korrigeringer for Posten"]
[null,"Samlet vekt av innleveringen",null,null,null,null,null,null,null,null,null,{"$f":"'Ark1'!L60","v":0},"Ordreseddelen er korrigert",null,null,null,null,null,null,null,null,null,null,null,"Postens kommentarer til avviket"]
[]
[null,{"$f":"'Ark1'!B62","v":0},null,null,null,null,null,null,"kg"]
[]
[]
[null,null,null,null,null,null,null,null,null,null,null,null,null,null,null,null,null,null,null,"Posten Norge AS, Foretaksregisteret: NO 984 661 185 MVA"]
[null,"2019 V01"]