{"text_format":"1","workbook":"xlsx","n_sheets":2,"sheets":["Ark1","Ark2"],"not_rendered":{"charts":0,"images":1,"macros":1,"external_links":0,"defined_names":2,"comments":0,"pivot_tables":0},"unopened":[],"bounds":{"document_bytes":16777216,"sheet_cells":100000,"rows_first":2000,"rows_last":500,"rows_between":2000,"halvings":0,"cell_chars":16384,"cell_head_chars":4096},"cells_cut":0,"cells_raw":0,"read":"whole","date_system":"1900"}

{"sheet":"Ark1","index":0,"n_rows":68,"n_cols":32,"rows_kept":68,"cut":false,"hidden":false,"merged":[[28,24,28,25],[30,24,30,25],[32,24,32,25],[34,21,34,22],[31,24,31,25],[28,21,28,22],[31,21,31,22],[32,21,32,22],[33,21,33,22],[12,1,14,5],[12,6,14,17],[30,11,30,14],[30,15,30,19],[27,8,27,10],[27,15,27,19],[62,10,65,33],[42,6,43,28],[63,8,64,8],[45,1,47,33],[54,1,58,16],[51,17,51,25],[51,26,51,33],[53,17,53,25],[50,1,50,16],[53,13,53,16],[19,36,26,37],[26,21,26,22],[18,21,25,22],[20,24,25,25],[20,27,25,28],[18,30,25,31],[18,23,19,29],[26,24,26,25],[26,27,26,28],[26,30,26,31],[4,1,4,17],[4,18,4,33],[38,15,38,19],[39,11,39,14],[40,8,40,10],[40,11,40,14],[37,8,37,10],[39,8,39,10],[39,15,39,19],[38,8,38,10],[1,14,2,33],[6,1,6,17],[6,18,6,33],[8,1,8,17],[8,18,8,22],[8,23,8,33],[7,23,7,33],[5,1,5,17],[5,18,5,33],[7,1,7,17],[28,15,28,19],[29,20,29,33],[27,24,27,25],[10,1,10,17],[11,23,12,29],[10,23,10,29],[27,21,27,22],[18,11,24,14],[27,27,27,28],[15,1,17,33],[31,15,31,19],[32,15,32,19],[32,11,32,14],[34,15,34,19],[28,27,28,28],[26,11,26,14],[26,15,26,19],[29,11,29,14],[29,15,29,19],[27,11,27,14],[30,27,30,28],[31,27,31,28],[32,27,32,28],[33,27,33,28],[33,24,33,25],[30,21,30,22],[33,15,33,19],[33,30,33,31],[37,27,37,28],[38,27,38,28],[35,24,35,25],[35,27,35,28],[36,20,36,33],[34,30,34,31],[38,24,38,25],[35,21,35,22],[27,30,27,31],[28,30,28,31],[30,30,30,31],[31,30,31,31],[32,30,32,31],[40,30,40,31],[40,15,40,19],[35,30,35,31],[37,30,37,31],[38,30,38,31],[35,15,35,19],[37,15,37,19],[37,24,37,25],[40,21,40,22],[37,21,37,22],[38,21,38,22],[34,24,34,25],[39,24,39,25],[40,24,40,25],[40,27,40,28],[39,21,39,22],[39,27,39,28],[34,27,34,28],[34,8,34,10],[39,30,39,31],[51,1,51,16],[53,1,53,12],[34,11,34,14],[35,11,35,14],[37,11,37,14],[38,11,38,14],[52,1,52,12],[48,1,49,33],[32,1,32,7],[33,8,33,10],[31,11,31,14],[28,11,28,14],[53,26,53,33],[35,8,35,10],[32,8,32,10],[31,8,31,10],[29,8,29,10],[30,8,30,10],[67,1,67,4],[35,1,35,7],[37,1,37,7],[38,1,38,7],[39,1,39,7],[40,1,40,7],[63,1,64,7],[60,1,60,16],[59,1,59,16],[61,1,61,9],[7,18,7,22],[50,17,50,25],[50,26,50,33],[10,20,10,22],[30,1,30,7],[31,1,31,7],[25,1,25,19],[9,1,9,17],[18,1,24,7],[18,8,24,10],[11,1,11,5],[11,6,11,17],[52,13,52,16],[26,1,26,7],[28,1,28,7],[27,1,27,7],[26,8,26,10],[28,8,28,10],[29,1,29,7],[33,11,33,14],[61,10,61,24],[61,26,61,33],[52,26,52,33],[52,17,52,25],[12,20,12,22],[36,1,36,19],[33,1,33,7],[34,1,34,7],[18,15,24,19],[59,17,59,33]]}
[null,null,null,null,null,null,null,null,null,null,null,null,null,null,null,null,null,null,null,null,null,null,null,null,null,null,null,null,null,null,null,"Side 1 av 2"]
[]
[]
[]
[null,"Kundeinformasjon",null,null,null,null,null,null,null,null,null,null,null,null,null,null,null,null,"Del 1 Kundens gjenpart "]
[null,"Kundenummer",null,null,null,null,null,null,null,null,null,null,null,null,null,null,null,null,"Bestillingsreferanse (maks 35 tegn)"]
[]
[null,"Kundenavn",null,null,null,null,null,null,null,null,null,null,null,null,null,null,null,null,"Telefon",null,null,null,null,"e-post"]
[]
[null,"Postadresse"]
[null,null,null,null,null,null,null,null,null,null,null,null,null,null,null,null,null,null,null,{"$f":"'Ark1'!V11","v":0},"Tittel: "]
[null,"Postnummer",null,null,null,null,"Poststed"]
[null,null,null,null,null,null,null,null,null,null,null,null,null,null,null,null,null,null,null,{"$f":"'Ark1'!V13","v":0},"Utgavenr.:"]
[]
[]
[null,"Sendingsspesifikasjoner"]
[]
[]
[null,"Destinasjon",null,null,null,null,null,null,"Antall\nsendinger",null,null,"Vekt pr. sending",null,null,null,"Total vekt\ni kilo",null,null,null,null,null,"Løssalgspakning",null,"Kryss av",null,null,null,null,null,null,"Postkasseformat"]
[]
[null,null,null,null,null,null,null,null,null,null,null,null,null,null,null,null,null,null,null,null,null,null,null,null,"Unavnede",null,null,"Fulldistribusjon"]
[]
[]
[]
[]
[null,"Norge"]
[null,"Lokaldistribusjon"]
[null,"Lokaldistribusjon"]
[null,"Lokaldistribusjon"]
[null,"Postboks lørdag"]
[null,"Regionaldistribusjon"]
[null,"Regionaldistribusjon"]
[null,"Regionaldistribusjon"]
[null,"Riksdistribusjon"]
[null,"Riksdistribusjon"]
[null,"Riksdistribusjon"]
[null,"Utland"]
[null,"Til Europa"]
[null,"Til Europa"]
[null,"Utenfor Europa"]
[null,"Utenfor Europa"]
[]
[null,null,null,null,null,null,"1 eksemplar av sendingen legges ved ordreseddelen"]
[]
[]
[]
[]
[]
[null,"Underskrifter mv."]
[]
[null,"Firmanavn ved innlevering av 3.part (trykkeri/pakningsfirma osv)",null,null,null,null,null,null,null,null,null,null,null,null,null,null,null,"Kontaktperson",null,null,null,null,null,null,null,null,"Telefon"]
[]
[null,"Sted",null,null,null,null,null,null,null,null,null,null,null,"Dato/år",null,null,null,"Sted",null,null,null,null,null,null,null,null,"Dato/år/klokkeslett"]
[]
[]
[]
[null,null,null,null,null,null,null,null,null,null,null,null,null,null,null,null,null,null,null,null,null,{"$f":"'Ark1'!X60","v":0}]
[]
[]
[null,"Navn/stempel og underskrift",null,null,null,null,null,null,null,null,null,null,null,null,null,null,null,"Stempel og underskrift Posten"]
[null,"Kommentarer/korrigeringer for Posten"]
[null,"Samlet vekt av innleveringen",null,null,null,null,null,null,null,null,"Postens merknader ved avvik: ",null,null,null,null,null,null,null,null,null,null,null,null,null,null,null,"Ordreseddelen er korrigert"]
[null,null,null,null,null,null,null,null,null,{"$f":"'Ark1'!J66","v":0}]
[null,null,null,null,null,null,null,null,"kg"]
[]
[]
[null,null,null,null,null,null,null,null,null,null,null,null,null,null,null,null,null,"Posten Norge AS, Foretaksregisteret: NO 984 661 185 MVA"]
[null,"2019 V01"]

{"sheet":"Ark2","index":1,"n_rows":69,"n_cols":32,"rows_kept":69,"cut":false,"hidden":false,"merged":[[12,1,14,5],[12,6,14,17],[38,1,38,7],[39,1,39,7],[26,1,26,7],[18,8,24,10],[18,11,24,14],[25,1,25,19],[35,1,35,7],[36,1,36,19],[37,1,37,7],[32,1,32,7],[34,1,34,7],[27,1,27,7],[28,1,28,7],[29,1,29,7],[30,1,30,7],[31,1,31,7],[11,23,12,29],[45,1,47,33],[48,1,49,33],[64,8,65,8],[54,1,58,16],[63,10,66,33],[42,6,43,28],[15,1,17,33],[27,8,27,10],[33,1,33,7],[18,15,24,19],[39,21,39,22],[39,24,39,25],[39,27,39,28],[38,24,38,25],[38,27,38,28],[33,24,33,25],[33,27,33,28],[36,20,36,33],[33,30,33,31],[40,27,40,28],[40,30,40,31],[37,21,37,22],[37,24,37,25],[37,27,37,28],[37,30,37,31],[38,21,38,22],[38,30,38,31],[34,24,34,25],[34,27,34,28],[34,30,34,31],[39,30,39,31],[31,30,31,31],[32,21,32,22],[32,24,32,25],[32,27,32,28],[32,30,32,31],[35,24,35,25],[35,27,35,28],[35,30,35,31],[30,30,30,31],[27,21,27,22],[27,24,27,25],[27,27,27,28],[27,30,27,31],[28,21,28,22],[34,21,34,22],[28,30,28,31],[18,21,25,22],[18,23,19,29],[18,30,25,31],[20,24,25,25],[20,27,25,28],[26,21,26,22],[26,24,26,25],[26,30,26,31],[26,27,26,28],[33,21,33,22],[39,8,39,10],[39,15,39,19],[40,15,40,19],[38,8,38,10],[38,15,38,19],[37,15,37,19],[37,8,37,10],[35,15,35,19],[35,21,35,22],[34,8,34,10],[35,11,35,14],[31,11,31,14],[33,15,33,19],[34,15,34,19],[34,11,34,14],[32,15,32,19],[32,11,32,14],[30,21,30,22],[30,24,30,25],[30,27,30,28],[28,24,28,25],[29,8,29,10],[29,15,29,19],[29,20,29,33],[31,24,31,25],[31,27,31,28],[28,8,28,10],[29,11,29,14],[28,11,28,14],[27,15,27,19],[27,11,27,14],[28,27,28,28],[30,11,30,14],[31,21,31,22],[10,1,10,17],[31,8,31,10],[31,15,31,19],[33,8,33,10],[32,8,32,10],[26,15,26,19],[28,15,28,19],[30,15,30,19],[26,11,26,14],[26,8,26,10],[40,1,40,7],[1,14,2,33],[6,1,6,17],[8,1,8,17],[8,18,8,22],[8,23,8,33],[6,18,6,28],[6,29,6,33],[10,23,10,29],[33,11,33,14],[53,13,53,16],[51,17,51,25],[37,11,37,14],[38,11,38,14],[39,11,39,14],[40,8,40,10],[40,21,40,22],[40,24,40,25],[68,1,68,4],[51,26,51,33],[53,17,53,25],[53,26,53,33],[40,11,40,14],[30,8,30,10],[35,8,35,10],[64,1,65,7],[51,1,51,16],[53,1,53,12],[4,1,4,17],[4,18,4,33],[5,1,5,17],[5,18,5,33],[7,1,7,17],[7,18,7,22],[7,23,7,33],[61,1,61,33],[62,1,62,9],[62,10,62,24],[62,26,62,33],[9,1,9,17],[10,20,10,22],[12,20,12,22],[21,3,21,6],[50,1,50,16],[50,17,50,25],[67,17,67,33],[11,1,11,5],[11,6,11,17],[52,26,52,33],[52,17,52,25],[52,13,52,16],[52,1,52,12],[50,26,50,33],[59,3,59,14],[59,17,59,33]]}
[null,null,null,null,null,null,null,null,null,null,null,null,null,null,null,null,null,null,null,null,null,null,null,null,null,null,null,null,null,null,null,"Side 2 av 2"]
[]
[]
[]
[null,"Kundeinformasjon",null,null,null,null,null,null,null,null,null,null,null,null,null,null,null,null,"Del 1 Kundens gjenpart "]
[null,"Kundenummer",null,null,null,null,null,null,null,null,null,null,null,null,null,null,null,null,"Bestillingsreferanse ( maks 35 tegn)"]
[null,{"$f":"'Ark1'!B7","v":0},null,null,null,null,null,null,null,null,null,null,null,null,null,null,null,null,{"$f":"'Ark1'!S7","v":0}]
[null,"Kundenavn",null,null,null,null,null,null,null,null,null,null,null,null,null,null,null,null,"Telefon",null,null,null,null,"e-post"]
[null,{"$f":"'Ark1'!B9","v":0},null,null,null,null,null,null,null,null,null,null,null,null,null,null,null,null,{"$f":"'Ark1'!S9","v":0},null,null,null,null,{"$f":"'Ark1'!X9","v":0}]
[null,"Postadresse"]
[null,{"$f":"'Ark1'!B11","v":0},null,null,null,null,null,null,null,null,null,null,null,null,null,null,null,null,null,{"$f":"'Ark1'!V11","v":0},"Tittel: ",null,null,{"$f":"'Ark1'!X11","v":0}]
[null,"Postnummer",null,null,null,null,"Poststed",null,null,null,null,null,null,null,null,null,null,null,null,null,null,null,null,{"$f":"'Ark1'!X12","v":0}]
[null,{"$f":"+'Ark1'!B13","v":0},null,null,null,null,{"$f":"+'Ark1'!G13","v":0},null,null,null,null,null,null,null,null,null,null,null,null,{"$f":"'Ark1'!V13","v":0},"Utgavenr.:"]
[]
[]
[null,"Sendingsspesifikasjon"]
[]
[]
[null,null,null,null,null,null,null,null,"Antall sendinger",null,null,"Vekt pr. sending",null,null,null,"Total vekt\ni kilo",null,null,null,null,null,"Løssalgspakning",null,"Kryss av",null,null,null,null,null,null,"Postkasseformat"]
[]
[null,null,null,null,null,null,null,null,null,null,null,null,null,null,null,null,null,null,null,null,null,null,null,null,"Unavnede",null,null,"Fulldistribusjon"]
[null,null,null,"Destinasjon"]
[]
[]
[]
[null,"Norge"]
[null,"Lokaldistribusjon",null,null,null,null,null,null,{"$f":"'Ark1'!I27","v":0},null,null,{"$f":"'Ark1'!L27","v":0},null,null,null,{"$f":"'Ark1'!P27","v":0},null,null,null,null,null,{"$f":"'Ark1'!V27","v":0},null,null,{"$f":"'Ark1'!Y27","v":0},null,null,{"$f":"'Ark1'!AB27","v":0},null,null,{"$f":"'Ark1'!AE27","v":0}]
[null,"Lokaldistribusjon",null,null,null,null,null,null,{"$f":"'Ark1'!I28","v":0},null,null,{"$f":"'Ark1'!L28","v":0},null,null,null,{"$f":"'Ark1'!P28","v":0},null,null,null,null,null,{"$f":"'Ark1'!V28","v":0},null,null,{"$f":"'Ark1'!Y28","v":0},null,null,{"$f":"'Ark1'!AB28","v":0},null,null,{"$f":"'Ark1'!AE28","v":0}]
[null,"Lokaldistribusjon",null,null,null,null,null,null,{"$f":"'Ark1'!I29","v":0},null,null,{"$f":"'Ark1'!L29","v":0},null,null,null,{"$f":"'Ark1'!P29","v":0},null,null,null,null,null,{"$f":"'Ark1'!V29","v":0},null,null,{"$f":"'Ark1'!Y29","v":0},null,null,{"$f":"'Ark1'!AB29","v":0},null,null,{"$f":"'Ark1'!AE29","v":0}]
[null,"Postboks lørdag",null,null,null,null,null,null,{"$f":"'Ark1'!I30","v":0},null,null,{"$f":"'Ark1'!L30","v":0},null,null,null,{"$f":"'Ark1'!P30","v":0}]
[null,"Regionaldistribusjon",null,null,null,null,null,null,{"$f":"'Ark1'!I31","v":0},null,null,{"$f":"'Ark1'!L31","v":0},null,null,null,{"$f":"'Ark1'!P31","v":0},null,null,null,null,null,{"$f":"'Ark1'!V31","v":0},null,null,{"$f":"'Ark1'!Y31","v":0},null,null,{"$f":"'Ark1'!AB31","v":0},null,null,{"$f":"'Ark1'!AE31","v":0}]
[null,"Regionaldistribusjon",null,null,null,null,null,null,{"$f":"'Ark1'!I32","v":0},null,null,{"$f":"'Ark1'!L32","v":0},null,null,null,{"$f":"'Ark1'!P32","v":0},null,null,null,null,null,{"$f":"'Ark1'!V32","v":0},null,null,{"$f":"'Ark1'!Y32","v":0},null,null,{"$f":"'Ark1'!AB32","v":0},null,null,{"$f":"'Ark1'!AE32","v":0}]
[null,"Regionaldistribusjon",null,null,null,null,null,null,{"$f":"'Ark1'!I33","v":0},null,null,{"$f":"'Ark1'!L33","v":0},null,null,null,{"$f":"'Ark1'!P33","v":0},null,null,null,null,null,{"$f":"'Ark1'!V33","v":0},null,null,{"$f":"'Ark1'!Y33","v":0},null,null,{"$f":"'Ark1'!AB33","v":0},null,null,{"$f":"'Ark1'!AE33","v":0}]
[null,"Riksdistribusjon",null,null,null,null,null,null,{"$f":"'Ark1'!I34","v":0},null,null,{"$f":"'Ark1'!L34","v":0},null,null,null,{"$f":"'Ark1'!P34","v":0},null,null,null,null,null,{"$f":"'Ark1'!V34","v":0},null,null,{"$f":"'Ark1'!Y34","v":0},null,null,{"$f":"'Ark1'!AB34","v":0},null,null,{"$f":"'Ark1'!AE34","v":0}]
[null,"Riksdistribusjon",null,null,null,null,null,null,{"$f":"'Ark1'!I35","v":0},null,null,{"$f":"'Ark1'!L35","v":0},null,null,null,{"$f":"'Ark1'!P35","v":0},null,null,null,null,null,{"$f":"'Ark1'!V35","v":0},null,null,{"$f":"'Ark1'!Y35","v":0},null,null,{"$f":"'Ark1'!AB35","v":0},null,null,{"$f":"'Ark1'!AE35","v":0}]
[null,"Riksdistribusjon",null,null,null,null,null,null,{"$f":"'Ark1'!I36","v":0},null,null,{"$f":"'Ark1'!L36","v":0},null,null,null,{"$f":"'Ark1'!P36","v":0},null,null,null,null,null,{"$f":"'Ark1'!V36","v":0},null,null,{"$f":"'Ark1'!Y36","v":0},null,null,{"$f":"'Ark1'!AB36","v":0},null,null,{"$f":"'Ark1'!AE36","v":0}]
[null,"Utland"]
[null,"Til Europa",null,null,null,null,null,null,{"$f":"'Ark1'!I38","v":0},null,null,{"$f":"'Ark1'!L38","v":0},null,null,null,{"$f":"'Ark1'!P38","v":0},null,null,null,null,null,{"$f":"'Ark1'!V38","v":0},null,null,{"$f":"'Ark1'!Y38","v":0},null,null,{"$f":"'Ark1'!AB38","v":0},null,null,{"$f":"'Ark1'!AE38","v":0}]
[null,"Til Europa",null,null,null,null,null,null,{"$f":"'Ark1'!I39","v":0},null,null,{"$f":"'Ark1'!L39","v":0},null,null,null,{"$f":"'Ark1'!P39","v":0},null,null,null,null,null,{"$f":"'Ark1'!V39","v":0},null,null,{"$f":"'Ark1'!Y39","v":0},null,null,{"$f":"'Ark1'!AB39","v":0},null,null,{"$f":"'Ark1'!AE39","v":0}]
[null,"Utenfor Europa",null,null,null,null,null,null,{"$f":"'Ark1'!I40","v":0},null,null,{"$f":"'Ark1'!L40","v":0},null,null,null,{"$f":"'Ark1'!P40","v":0},null,null,null,null,null,{"$f":"'Ark1'!V40","v":0},null,null,{"$f":"'Ark1'!Y40","v":0},null,null,{"$f":"'Ark1'!AB40","v":0},null,null,{"$f":"'Ark1'!AE40","v":0}]
[null,"Utenfor Europa",null,null,null,null,null,null,{"$f":"'Ark1'!I41","v":0},null,null,{"$f":"'Ark1'!L41","v":0},null,null,null,{"$f":"'Ark1'!P41","v":0},null,null,null,null,null,{"$f":"'Ark1'!V41","v":0},null,null,{"$f":"'Ark1'!Y41","v":0},null,null,{"$f":"'Ark1'!AB41","v":0},null,null,{"$f":"'Ark1'!AE41","v":0}]
[]
[null,null,null,null,null,null,"1 eksemplar av sendingen legges ved ordreseddelen"]
[]
[]
[null,{"$f":"'Ark1'!B46","v":0}]
[]
[]
[null,"Underskrifter mv."]
[]
[null,"Firmanavn ved innlevering av 3.part (trykkeri/pakningsfirma osv)",null,null,null,null,null,null,null,null,null,null,null,null,null,null,null,"Kontaktperson",null,null,null,null,null,null,null,null,"Telefon"]
[null,{"$f":"'Ark1'!B52","v":0},null,null,null,null,null,null,null,null,null,null,null,null,null,null,null,{"$f":"'Ark1'!R52","v":0},null,null,null,null,null,null,null,null,{"$f":"'Ark1'!AA52","v":0}]
[null,"Sted",null,null,null,null,null,null,null,null,null,null,null,"Dato/år",null,null,null,"Sted",null,null,null,null,null,null,null,null,"Dato/år/klokkeslett"]
[null,{"$f":"'Ark1'!B54","v":0},null,null,null,null,null,null,null,null,null,null,null,{"$f":"'Ark1'!N54","v":0},null,null,null,{"$f":"'Ark1'!R54","v":0},null,null,null,null,null,null,null,null,{"$f":"'Ark1'!AA54","v":0}]
[null,{"$f":"'Ark1'!B55","v":0}]
[]
[null,null,null,null,null,null,null,null,null,null,null,null,null,null,null,null,null,null,null,null,null,{"$f":"'Ark1'!X60","v":0}]
[]
[]
[null,null,null,"Navn/stempel og underskrift",null,null,null,null,null,null,null,null,null,null,null,null,null,"Stempel og underskrift Posten"]
[]
[null,"Kommentarer/korrigeringer for Posten"]
[null,"Samlet vekt av innleveringen",null,null,null,null,null,null,null,null,"Postens merknader ved avvik: ",null,null,null,null,null,null,null,null,null,null,null,null,null,null,{"$f":"'Ark1'!Z62","v":0},"Ordreseddelen er korrigert"]
[null,null,null,null,null,null,null,null,null,{"$f":"'Ark1'!J66","v":0}]
[null,{"$f":"'Ark1'!B64","v":0},null,null,null,null,null,null,"kg"]
[]
[]
[null,null,null,null,null,null,null,null,null,null,null,null,null,null,null,null,null,"Posten Norge AS, Foretaksregisteret: NO 984 661 185 MVA"]
[null,"2019 V01"]